BEGIN:VCALENDAR
VERSION:2.0
PRODID:-//OSZ Banken, Immobilien und Versicherungen - ECPv6.15.16//NONSGML v1.0//EN
CALSCALE:GREGORIAN
METHOD:PUBLISH
X-WR-CALNAME:OSZ Banken, Immobilien und Versicherungen
X-ORIGINAL-URL:https://www.osz-biv.de
X-WR-CALDESC:Veranstaltungen für OSZ Banken, Immobilien und Versicherungen
REFRESH-INTERVAL;VALUE=DURATION:PT1H
X-Robots-Tag:noindex
X-PUBLISHED-TTL:PT1H
BEGIN:VTIMEZONE
TZID:Europe/Berlin
BEGIN:DAYLIGHT
TZOFFSETFROM:+0100
TZOFFSETTO:+0200
TZNAME:CEST
DTSTART:20250330T010000
END:DAYLIGHT
BEGIN:STANDARD
TZOFFSETFROM:+0200
TZOFFSETTO:+0100
TZNAME:CET
DTSTART:20251026T010000
END:STANDARD
BEGIN:DAYLIGHT
TZOFFSETFROM:+0100
TZOFFSETTO:+0200
TZNAME:CEST
DTSTART:20260329T010000
END:DAYLIGHT
BEGIN:STANDARD
TZOFFSETFROM:+0200
TZOFFSETTO:+0100
TZNAME:CET
DTSTART:20261025T010000
END:STANDARD
BEGIN:DAYLIGHT
TZOFFSETFROM:+0100
TZOFFSETTO:+0200
TZNAME:CEST
DTSTART:20270328T010000
END:DAYLIGHT
BEGIN:STANDARD
TZOFFSETFROM:+0200
TZOFFSETTO:+0100
TZNAME:CET
DTSTART:20271031T010000
END:STANDARD
END:VTIMEZONE
BEGIN:VEVENT
DTSTART;VALUE=DATE:20260428
DTEND;VALUE=DATE:20260430
DTSTAMP:20260421T142319
CREATED:20251117T130801Z
LAST-MODIFIED:20251117T130801Z
UID:10356-1777334400-1777507199@www.osz-biv.de
SUMMARY:schriftliche IHK-Prüfungen/GAP 2 im Frühjahr 2026
DESCRIPTION:Am Dienstag und Mittwoch finden die schriftlichen Prüfungen unserer angehenden Kauffrauen und Kaufmänner der Banken\, Immobilien und Versicherungen statt. Für Ihre Prüfungen wünschen wir Ihnen viel Erfolg!
URL:https://www.osz-biv.de/event/schriftliche-ihk-pruefungen-gap-2-im-fruehjahr-2026/
END:VEVENT
END:VCALENDAR